BEGIN:VCALENDAR
VERSION:2.0
PRODID:icalendar-ruby
CALSCALE:GREGORIAN
METHOD:PUBLISH
BEGIN:VEVENT
DTSTAMP:20260423T083631Z
UID:80-3939101@sjpet.org
DTSTART:20260916T013000Z
DTEND:20260916T030000Z
CLASS:PUBLIC
CREATED:20260422T185649
DESCRIPTION:The Youth group will be led by the Camerons and the Millers wil
 l meet on Tuesdays in the Miller family home.\nFurther details or question
 s\, contact the Camerons or Millers (details in church directory) or churc
 h office\n \n\n \n\n 
LAST-MODIFIED:20260422T185649
LOCATION:
SUMMARY:Youth Group
URL;VALUE=URI:https://www.sjpet.org/events/youth-group/2026-09-15
ATTACH;FILENAME=shutterstock_635927231.jpg;FMTTYPE=image/jpeg:https://dq5pw
 pg1q8ru0.cloudfront.net/2022/09/06/13/31/38/3ba9aa52-3b04-4cf7-b9a2-3d951d
 56717c/shutterstock_635927231.jpg
END:VEVENT
END:VCALENDAR
