BEGIN:VCALENDAR
VERSION:2.0
PRODID:icalendar-ruby
CALSCALE:GREGORIAN
METHOD:PUBLISH
BEGIN:VEVENT
DTSTAMP:20260420T050452Z
UID:167-3884956@sjpet.org
DTSTART:20260622T013000Z
DTEND:20260622T030000Z
CLASS:PUBLIC
CREATED:20260419T142618
DESCRIPTION:Join the women of St John's for fellowship and discussion over 
 a pint of beer or non-alcoholic beverage at local Brewery\, TAPS. All wome
 n 21+ are welcome!
LAST-MODIFIED:20260419T142618
LOCATION:
SUMMARY:Women's Pub Night
URL;VALUE=URI:https://www.sjpet.org/events/womens-pub-night/2026-06-21
ATTACH;FILENAME=Screen Shot 2024-03-06 at 12.01.43 PM.png;FMTTYPE=image/png
 :https://dq5pwpg1q8ru0.cloudfront.net/2026/04/19/21/24/32/bff970be-6827-45
 c4-a8d0-f6e94771c20d/Screen%20Shot%202024-03-06%20at%2012.01.43%20PM.png
END:VEVENT
END:VCALENDAR
