BEGIN:VCALENDAR
VERSION:2.0
PRODID:icalendar-ruby
CALSCALE:GREGORIAN
METHOD:PUBLISH
BEGIN:VEVENT
DTSTAMP:20260424T221919Z
UID:9-3964111@sjpet.org
DTSTART:20261104T173000Z
DTEND:20261104T183000Z
CLASS:PUBLIC
CREATED:20260424T125602
DESCRIPTION:Join us as we pray for each other and the world
LAST-MODIFIED:20260424T125602
LOCATION:St. John's Anglican Church\, Petaluma
SUMMARY:Small Group
URL;VALUE=URI:https://www.sjpet.org/events/small-group/2026-11-04
END:VEVENT
END:VCALENDAR
