BEGIN:VCALENDAR
VERSION:2.0
PRODID:icalendar-ruby
CALSCALE:GREGORIAN
METHOD:PUBLISH
BEGIN:VEVENT
DTSTAMP:20260424T172108Z
UID:9-3961498@sjpet.org
DTSTART:20261014T163000Z
DTEND:20261014T173000Z
CLASS:PUBLIC
CREATED:20260424T100917
DESCRIPTION:Join us as we pray for each other and the world
LAST-MODIFIED:20260424T100917
LOCATION:St. John's Anglican Church\, Petaluma
SUMMARY:Small Group
URL;VALUE=URI:https://www.sjpet.org/events/small-group/2026-10-14
END:VEVENT
END:VCALENDAR
