BEGIN:VCALENDAR
VERSION:2.0
PRODID:icalendar-ruby
CALSCALE:GREGORIAN
METHOD:PUBLISH
BEGIN:VEVENT
DTSTAMP:20260424T122042Z
UID:9-3956275@sjpet.org
DTSTART:20260923T163000Z
DTEND:20260923T173000Z
CLASS:PUBLIC
CREATED:20260424T042703
DESCRIPTION:Join us as we pray for each other and the world
LAST-MODIFIED:20260424T042703
LOCATION:St. John's Anglican Church\, Petaluma
SUMMARY:Small Group
URL;VALUE=URI:https://www.sjpet.org/events/small-group/2026-09-23
END:VEVENT
END:VCALENDAR
