BEGIN:VCALENDAR
VERSION:2.0
PRODID:icalendar-ruby
CALSCALE:GREGORIAN
METHOD:PUBLISH
BEGIN:VEVENT
DTSTAMP:20260424T105314Z
UID:9-3953666@sjpet.org
DTSTART:20260916T163000Z
DTEND:20260916T173000Z
CLASS:PUBLIC
CREATED:20260423T185835
DESCRIPTION:Join us as we pray for each other and the world
LAST-MODIFIED:20260423T185835
LOCATION:St. John's Anglican Church\, Petaluma
SUMMARY:Small Group
URL;VALUE=URI:https://www.sjpet.org/events/small-group/2026-09-16
END:VEVENT
END:VCALENDAR
