BEGIN:VCALENDAR
VERSION:2.0
PRODID:icalendar-ruby
CALSCALE:GREGORIAN
METHOD:PUBLISH
BEGIN:VEVENT
DTSTAMP:20260424T060802Z
UID:9-3953663@sjpet.org
DTSTART:20260826T163000Z
DTEND:20260826T173000Z
CLASS:PUBLIC
CREATED:20260423T185835
DESCRIPTION:Join us as we pray for each other and the world
LAST-MODIFIED:20260423T185835
LOCATION:St. John's Anglican Church\, Petaluma
SUMMARY:Small Group
URL;VALUE=URI:https://www.sjpet.org/events/small-group/2026-08-26
END:VEVENT
END:VCALENDAR
