BEGIN:VCALENDAR
VERSION:2.0
PRODID:icalendar-ruby
CALSCALE:GREGORIAN
METHOD:PUBLISH
BEGIN:VEVENT
DTSTAMP:20260424T002706Z
UID:9-3951051@sjpet.org
DTSTART:20260729T163000Z
DTEND:20260729T173000Z
CLASS:PUBLIC
CREATED:20260423T160517
DESCRIPTION:Join us as we pray for each other and the world
LAST-MODIFIED:20260423T160517
LOCATION:St. John's Anglican Church\, Petaluma
SUMMARY:Small Group
URL;VALUE=URI:https://www.sjpet.org/events/small-group/2026-07-29
END:VEVENT
END:VCALENDAR
