BEGIN:VCALENDAR
VERSION:2.0
PRODID:icalendar-ruby
CALSCALE:GREGORIAN
METHOD:PUBLISH
BEGIN:VEVENT
DTSTAMP:20260423T201543Z
UID:9-3948440@sjpet.org
DTSTART:20260708T163000Z
DTEND:20260708T173000Z
CLASS:PUBLIC
CREATED:20260423T131117
DESCRIPTION:Join us as we pray for each other and the world
LAST-MODIFIED:20260423T131117
LOCATION:St. John's Anglican Church\, Petaluma
SUMMARY:Small Group
URL;VALUE=URI:https://www.sjpet.org/events/small-group/2026-07-08
END:VEVENT
END:VCALENDAR
