BEGIN:VCALENDAR
VERSION:2.0
PRODID:icalendar-ruby
CALSCALE:GREGORIAN
METHOD:PUBLISH
BEGIN:VEVENT
DTSTAMP:20260423T181042Z
UID:9-3945831@sjpet.org
DTSTART:20260701T163000Z
DTEND:20260701T173000Z
CLASS:PUBLIC
CREATED:20260423T101449
DESCRIPTION:Join us as we pray for each other and the world
LAST-MODIFIED:20260423T101449
LOCATION:St. John's Anglican Church\, Petaluma
SUMMARY:Small Group
URL;VALUE=URI:https://www.sjpet.org/events/small-group/2026-07-01
END:VEVENT
END:VCALENDAR
