BEGIN:VCALENDAR
VERSION:2.0
PRODID:icalendar-ruby
CALSCALE:GREGORIAN
METHOD:PUBLISH
BEGIN:VEVENT
DTSTAMP:20260423T131729Z
UID:9-3940612@sjpet.org
DTSTART:20260610T163000Z
DTEND:20260610T173000Z
CLASS:PUBLIC
CREATED:20260423T042619
DESCRIPTION:Join us as we pray for each other and the world
LAST-MODIFIED:20260423T042619
LOCATION:St. John's Anglican Church\, Petaluma
SUMMARY:Small Group
URL;VALUE=URI:https://www.sjpet.org/events/small-group/2026-06-10
END:VEVENT
END:VCALENDAR
