BEGIN:VCALENDAR
VERSION:2.0
PRODID:icalendar-ruby
CALSCALE:GREGORIAN
METHOD:PUBLISH
BEGIN:VEVENT
DTSTAMP:20260423T083029Z
UID:9-3938001@sjpet.org
DTSTART:20260520T163000Z
DTEND:20260520T173000Z
CLASS:PUBLIC
CREATED:20260422T185645
DESCRIPTION:Join us as we pray for each other and the world
LAST-MODIFIED:20260422T185645
LOCATION:St. John's Anglican Church\, Petaluma
SUMMARY:Small Group
URL;VALUE=URI:https://www.sjpet.org/events/small-group/2026-05-20
END:VEVENT
END:VCALENDAR
