BEGIN:VCALENDAR
VERSION:2.0
PRODID:icalendar-ruby
CALSCALE:GREGORIAN
METHOD:PUBLISH
BEGIN:VEVENT
DTSTAMP:20260420T222155Z
UID:9-3904133@sjpet.org
DTSTART:20260506T163000Z
DTEND:20260506T173000Z
CLASS:PUBLIC
CREATED:20260420T143542
DESCRIPTION:Join us as we pray for each other and the world
LAST-MODIFIED:20260420T143542
LOCATION:St. John's Anglican Church\, Petaluma
SUMMARY:Small Group
URL;VALUE=URI:https://www.sjpet.org/events/small-group/2026-05-06
END:VEVENT
END:VCALENDAR
