BEGIN:VCALENDAR
VERSION:2.0
PRODID:icalendar-ruby
CALSCALE:GREGORIAN
METHOD:PUBLISH
BEGIN:VEVENT
DTSTAMP:20260420T193203Z
UID:9-3901527@sjpet.org
DTSTART:20260422T163000Z
DTEND:20260422T173000Z
CLASS:PUBLIC
CREATED:20260420T115933
DESCRIPTION:Join us as we pray for each other and the world
LAST-MODIFIED:20260420T115933
LOCATION:St. John's Anglican Church\, Petaluma
SUMMARY:Small Group
URL;VALUE=URI:https://www.sjpet.org/events/small-group/2026-04-22
END:VEVENT
END:VCALENDAR
