BEGIN:VCALENDAR
VERSION:2.0
PRODID:icalendar-ruby
CALSCALE:GREGORIAN
METHOD:PUBLISH
BEGIN:VEVENT
DTSTAMP:20260421T212455Z
UID:160-3918802@sjpet.org
DTSTART:20260921T003000Z
DTEND:20260921T010000Z
CLASS:PUBLIC
CREATED:20260421T120833
DESCRIPTION:Join us for a share a dish supper at a Penngrove home\, before 
 we gather around God's word to study and then pray.\nContact church office
  for more information
LAST-MODIFIED:20260421T120833
LOCATION:
SUMMARY:Share a Dish and Bible study
URL;VALUE=URI:https://www.sjpet.org/events/share-a-dish-and-bible-study/202
 6-09-20
ATTACH;FILENAME=Screen Shot 2024-01-22 at 2.40.27 PM.png;FMTTYPE=image/png:
 https://dq5pwpg1q8ru0.cloudfront.net/2025/10/03/21/08/59/292c4db2-9fd0-470
 f-90ed-0b6c35808e03/Screen%20Shot%202024-01-22%20at%202.40.27%20PM.png
END:VEVENT
END:VCALENDAR
